BEGIN:VCALENDAR
VERSION:2.0
PRODID:-//wp-events-plugin.com//7.2.3.1//EN
BEGIN:VEVENT
UID:0-63@puroclean.com
DTSTART:20241203T173000Z
DTEND:20241203T200000Z
DTSTAMP:20240723T192105Z
URL:https://www.puroclean.com/canton-ga-puroclean-north-metro-atlanta/even
 ts/city-of-woodstocks-26th-annual-christmas-jubilee-and-parade-of-lights/
SUMMARY:City of Woodstock’s 26th Annual Christmas Jubilee and Parade of L
 ights
DESCRIPTION:The City of Woodstock’s 26th Annual Christmas Jubilee and Par
 ade of Lights is Saturday\, December 3rd from 5:30 to 9 pm in Downtown Woo
 dstock. Road closures will begin at 5:15 pm for the parade which starts at
  5:30 pm at Woodstock Elementary School on Rope Mill Road and travels sout
 h on Main Street to the Sam’s Club near Hwy 92. The event is rain or shi
 ne unless there is dangerous wind or lightning in the area.\n\n
LOCATION:Woodstock Elementary School\, 230 Rope Mill Rd\, Woodstock\, GA\, 
 30188\, United States
GEO:34.109214;-84.520386
X-APPLE-STRUCTURED-LOCATION;VALUE=URI;X-ADDRESS=230 Rope Mill Rd\, Woodstoc
 k\, GA\, 30188\, United States;X-APPLE-RADIUS=100;X-TITLE=Woodstock Elemen
 tary School:geo:34.109214,-84.520386
END:VEVENT
END:VCALENDAR