BEGIN:VCALENDAR
VERSION:2.0
PRODID:-//wp-events-plugin.com//7.2.3.1//EN
BEGIN:VEVENT
UID:0-12@puroclean.com
DTSTART:20230419T163000Z
DTEND:20230419T193000Z
DTSTAMP:20230308T155007Z
URL:https://www.puroclean.com/greer-sc-puroclean-greer/events/ce-class-mol
 d-remediation/
SUMMARY:CE Class: Mold Remediation
DESCRIPTION:CE Class: Ethics In Modern Society (3 credit hours)\n\nLunch in
 cluded catered by Chef 360\n\nGreer\, SC's Favorite Caterer | CHEF360 Cate
 ring (eatchef360.com)\n\n&nbsp\;
LOCATION:Comfort Inn and Suites Greenville Airport\, 40 West Orchard Park D
 rive\, Greenville\, South Carolina\, United States\, 29615\, Greenville \,
  SC\, 29615\, United States
GEO:34.857537;-82.336595
X-APPLE-STRUCTURED-LOCATION;VALUE=URI;X-ADDRESS=40 West Orchard Park Drive\
 , Greenville\, South Carolina\, United States\, 29615\, Greenville \, SC\,
  29615\, United States;X-APPLE-RADIUS=100;X-TITLE=Comfort Inn and Suites G
 reenville Airport:geo:34.857537,-82.336595
END:VEVENT
END:VCALENDAR