BEGIN:VCALENDAR
VERSION:2.0
PRODID:-//wp-events-plugin.com//7.2.3.1//EN
BEGIN:VEVENT
UID:0-272@puroclean.com
DTSTART:20260616T133000Z
DTEND:20260616T163000Z
DTSTAMP:20260131T120551Z
URL:https://www.puroclean.com/linthicum-heights-md-puroclean-emergency-res
 toration/events/fraud-during-a-water-claim-protect-the-insured-de-md-tx/
SUMMARY:Fraud During a Water Claim - Protect the Insured (DE\, MD\, TX)
DESCRIPTION:
LOCATION:JAM (Formerly named Eggspectation)\, 6010 University Blvd\, Ellico
 tt City\, Maryland\, 21043\, United States
GEO:39.209252;-76.79717
X-APPLE-STRUCTURED-LOCATION;VALUE=URI;X-ADDRESS=6010 University Blvd\, Elli
 cott City\, Maryland\, 21043\, United States;X-APPLE-RADIUS=100;X-TITLE=JA
 M (Formerly named Eggspectation):geo:39.209252,-76.79717
END:VEVENT
END:VCALENDAR