BEGIN:VCALENDAR
VERSION:2.0
PRODID:-//wp-events-plugin.com//7.2.3.1//EN
BEGIN:VEVENT
UID:0-26@puroclean.com
DTSTART;TZID=America/New_York:20190319T100000
DTEND;TZID=America/New_York:20190319T120000
DTSTAMP:20190220T153435Z
URL:https://www.puroclean.com/linthicum-heights-md-puroclean-emergency-res
 toration/events/free-continuing-education-class-flood-damage-health-home-3
 /
SUMMARY:FREE Continuing Education Class: Flood Damage: Health &amp\; Home
DESCRIPTION:\n\n\n2 Credits (FLOOD/P&amp\;C) offered for MD (Course #8604)\
 n2 Credits (FLOOD/P&amp\;C) offered for DE (Course #6000020731)\nOur class
 es are well attended\, and we consistently receive the highest reviews!\nH
 ere are some testimonials from our classes:\n"Great location\, comfortable
  with great refreshments."\n“The seminar was interactive instead of the 
 instructor just reading from power point slides the whole time.”\n“Ver
 y interesting\, good pace\, knowledgeable.”\n\n\n\n
LOCATION:Glory Days Grill\, 10035 Baltimore National Pike\, Ellicott City\,
  Maryland\, 21042\, United States
GEO:39.2782319;-76.8575252
X-APPLE-STRUCTURED-LOCATION;VALUE=URI;X-ADDRESS=10035 Baltimore National Pi
 ke\, Ellicott City\, Maryland\, 21042\, United States;X-APPLE-RADIUS=100;X
 -TITLE=Glory Days Grill:geo:39.2782319,-76.8575252
END:VEVENT
BEGIN:VTIMEZONE
TZID:America/New_York
X-LIC-LOCATION:America/New_York
BEGIN:DAYLIGHT
DTSTART:20190310T030000
TZOFFSETFROM:-0500
TZOFFSETTO:-0400
TZNAME:EDT
END:DAYLIGHT
END:VTIMEZONE
END:VCALENDAR