BEGIN:VCALENDAR
VERSION:2.0
PRODID:-//wp-events-plugin.com//7.2.3.1//EN
BEGIN:VEVENT
UID:0-270@puroclean.com
DTSTART:20260520T133000Z
DTEND:20260520T163000Z
DTSTAMP:20260131T115839Z
URL:https://www.puroclean.com/linthicum-heights-md-puroclean-emergency-res
 toration/events/successful-mitigation-of-water-damage-de-md-pa-tx-va-2/
SUMMARY:Successful Mitigation of Water Damage (DE\, MD\, PA\, TX\, VA)
DESCRIPTION:
LOCATION:Ryleigh's Oyster\, 22 W Padonia Rd\, Timonium\, MD\, 21030\, Unite
 d States
GEO:39.45628;-76.634909
X-APPLE-STRUCTURED-LOCATION;VALUE=URI;X-ADDRESS=22 W Padonia Rd\, Timonium\
 , MD\, 21030\, United States;X-APPLE-RADIUS=100;X-TITLE=Ryleigh's Oyster:g
 eo:39.45628,-76.634909
END:VEVENT
END:VCALENDAR