BEGIN:VCALENDAR
VERSION:2.0
PRODID:-//wp-events-plugin.com//7.2.3.1//EN
BEGIN:VEVENT
UID:0-28@puroclean.com
DTSTART;TZID=America/New_York:20260304T093000
DTEND;TZID=America/New_York:20260304T123000
DTSTAMP:20260218T150234Z
URL:https://www.puroclean.com/middlesex-nj-puroclean-disaster-response/eve
 nts/zoom-ce-homeowner-sensitivity-cleaning-vs-restoration-3-credits/
SUMMARY:Zoom CE - Homeowner Sensitivity - Cleaning vs Restoration\; 3 Credi
 ts
DESCRIPTION:“Homeowner Sensitivity – Cleaning vs. Restoration” is a c
 ontinuing education course that explores the balance between technical exp
 ertise and customer care in property recovery. Participants will learn how
  to communicate effectively with homeowners\, manage expectations\, and di
 stinguish between cleaning and restoration processes. The course emphasize
 s empathy\, professionalism\, and trust-building to ensure positive client
  experiences during stressful loss situations.
END:VEVENT
BEGIN:VTIMEZONE
TZID:America/New_York
X-LIC-LOCATION:America/New_York
BEGIN:STANDARD
DTSTART:20251102T010000
TZOFFSETFROM:-0400
TZOFFSETTO:-0500
TZNAME:EST
END:STANDARD
END:VTIMEZONE
END:VCALENDAR