BEGIN:VCALENDAR
VERSION:2.0
PRODID:-//wp-events-plugin.com//7.2.3.1//EN
BEGIN:VEVENT
UID:0-30@puroclean.com
DTSTART;TZID=America/New_York:20260506T093000
DTEND;TZID=America/New_York:20260506T123000
DTSTAMP:20260218T150324Z
URL:https://www.puroclean.com/middlesex-nj-puroclean-disaster-response/eve
 nts/zoom-ce-understanding-hoarding-and-insurance-challenges-3-credits/
SUMMARY:Zoom CE – Understanding Hoarding and Insurance Challenges\; 3 Cre
 dits
DESCRIPTION:“Understanding Hoarding and Insurance Challenges” is a cont
 inuing education course that examines the complexities hoarding situations
  create for insurance professionals and restoration specialists. Participa
 nts will learn to identify the psychological and environmental aspects of 
 hoarding\, assess related risks and damages\, and navigate coverage and li
 ability issues. The course emphasizes sensitivity\, safety\, and effective
  communication when managing these unique and often delicate claims.
END:VEVENT
BEGIN:VTIMEZONE
TZID:America/New_York
X-LIC-LOCATION:America/New_York
BEGIN:DAYLIGHT
DTSTART:20260308T030000
TZOFFSETFROM:-0500
TZOFFSETTO:-0400
TZNAME:EDT
END:DAYLIGHT
END:VTIMEZONE
END:VCALENDAR